BEGIN:VCALENDAR
VERSION:2.0
PRODID:-//Plone.org//NONSGML plone.app.event//EN
X-WR-TIMEZONE:Europe/Madrid
BEGIN:VEVENT
SUMMARY:Balsells Graduate Fellowship Program presentation
DTSTART;TZID=Europe/Madrid:20190917T140000
DTSTAMP:20260424T235343Z
UID:be5ad6b73cce4aa78a74a791e183b6e2@eetac.upc.edu
CREATED:20190913T165201Z
DESCRIPTION:Information session: Tuesday 17th of September at 2pm at Sala 
 d'actes (C4-001\, EETAC)
LAST-MODIFIED:20190913T165247Z
LOCATION:C4-001 (s'ala d'actes)
URL:https://eetac.upc.edu/ca/esdeveniments/balsells-graduate-fellowship-pr
 ogram-presentation
END:VEVENT
BEGIN:VTIMEZONE
TZID:Europe/Madrid
X-LIC-LOCATION:Europe/Madrid
BEGIN:DAYLIGHT
DTSTART:20190331T030000
TZNAME:CEST
TZOFFSETFROM:+0100
TZOFFSETTO:+0200
END:DAYLIGHT
END:VTIMEZONE
END:VCALENDAR
