BEGIN:VCALENDAR
VERSION:2.0
PRODID:-//Plone.org//NONSGML plone.app.event//EN
X-WR-TIMEZONE:Europe/Madrid
BEGIN:VEVENT
SUMMARY:Cicle Diàlegs del Campus
DTSTART;TZID=Europe/Madrid:20260422T110000
DTEND;TZID=Europe/Madrid:20260422T120000
DTSTAMP:20260419T193320Z
UID:22e7ecb87680489bb46d41fed5ad7fbb@eetac.upc.edu
CREATED:20260417T053401Z
DESCRIPTION:Primera xerrada del cicle de Diàlegs del Campus\, a càrrec d
 'ESA BIC Barcelona.
LAST-MODIFIED:20260417T125840Z
LOCATION:Espai de co-work de l'ESA BIC Barcelona. Edifici RDIT
URL:https://eetac.upc.edu/ca/esdeveniments/cicle-dialegs-del-campus
END:VEVENT
BEGIN:VTIMEZONE
TZID:Europe/Madrid
X-LIC-LOCATION:Europe/Madrid
BEGIN:DAYLIGHT
DTSTART:20260329T030000
TZNAME:CEST
TZOFFSETFROM:+0100
TZOFFSETTO:+0200
END:DAYLIGHT
END:VTIMEZONE
END:VCALENDAR
