BEGIN:VCALENDAR
VERSION:2.0
PRODID:-//Plone.org//NONSGML plone.app.event//EN
X-WR-TIMEZONE:Europe/Madrid
BEGIN:VEVENT
SUMMARY:Horari de divendres
DTSTART;VALUE=DATE:20260428
DTEND;VALUE=DATE:20260429
DTSTAMP:20260425T035134Z
UID:8ccb9525510a4ded864236ebff5069fe@eetac.upc.edu
CREATED:20250801T103846Z
LAST-MODIFIED:20260424T070741Z
URL:https://eetac.upc.edu/ca/esdeveniments/copy_of_horari-de-dijous
END:VEVENT
END:VCALENDAR
