BEGIN:VCALENDAR
VERSION:2.0
PRODID:-//Plone.org//NONSGML plone.app.event//EN
X-WR-TIMEZONE:Europe/Madrid
BEGIN:VEVENT
SUMMARY:Data límit publicació notes al NetFlip
DTSTART;TZID=Europe/Madrid:20200122T120000
DTEND;TZID=Europe/Madrid:20200122T120000
DTSTAMP:20260424T190835Z
UID:e1b14df3bab24c5da1a1d0a7cbb7f6b3@eetac.upc.edu
CREATED:20191004T105649Z
LAST-MODIFIED:20191004T123557Z
URL:https://eetac.upc.edu/ca/esdeveniments/data-limit-publicacio-notes-al-
 netflip-1
END:VEVENT
BEGIN:VTIMEZONE
TZID:Europe/Madrid
X-LIC-LOCATION:Europe/Madrid
BEGIN:STANDARD
DTSTART:20191027T020000
TZNAME:CET
TZOFFSETFROM:+0200
TZOFFSETTO:+0100
END:STANDARD
END:VTIMEZONE
END:VCALENDAR
