BEGIN:VCALENDAR
VERSION:2.0
PRODID:-//Plone.org//NONSGML plone.app.event//EN
X-WR-TIMEZONE:Europe/Madrid
BEGIN:VEVENT
SUMMARY:Data límit publicació notes / Fecha límite publicación notas /
  Final marks publication
DTSTART;TZID=Europe/Madrid:20210625T120000
DTEND;TZID=Europe/Madrid:20210625T120000
DTSTAMP:20260419T181135Z
UID:65053639737046109eeaf9440cb8ca3d@eetac.upc.edu
CREATED:20210119T111911Z
LAST-MODIFIED:20210119T115246Z
URL:https://eetac.upc.edu/ca/esdeveniments/data-limit-publicacio-notes-al-
 netflip-2
END:VEVENT
BEGIN:VTIMEZONE
TZID:Europe/Madrid
X-LIC-LOCATION:Europe/Madrid
BEGIN:DAYLIGHT
DTSTART:20210328T030000
TZNAME:CEST
TZOFFSETFROM:+0100
TZOFFSETTO:+0200
END:DAYLIGHT
END:VTIMEZONE
END:VCALENDAR
