BEGIN:VCALENDAR
VERSION:2.0
PRODID:-//Plone.org//NONSGML plone.app.event//EN
X-WR-TIMEZONE:Europe/Madrid
BEGIN:VEVENT
SUMMARY:Data límit publicació notes / Fecha límite publicación notas /
  Final marks publication
DTSTART;VALUE=DATE:20220629
DTEND;VALUE=DATE:20220630
DTSTAMP:20260424T163523Z
UID:62cbe2b743c643bf9532624458f2febf@eetac.upc.edu
CREATED:20220216T140837Z
LAST-MODIFIED:20220216T140855Z
URL:https://eetac.upc.edu/ca/esdeveniments/data-limit-publicacio-notes-fec
 ha-limite-publicacion-notas-final-marks-publication-2
END:VEVENT
END:VCALENDAR
