BEGIN:VCALENDAR
VERSION:2.0
PRODID:-//Plone.org//NONSGML plone.app.event//EN
X-WR-TIMEZONE:Europe/Madrid
BEGIN:VEVENT
SUMMARY:Dia festiu
DTSTART;VALUE=DATE:20161101
DTEND;VALUE=DATE:20161102
DTSTAMP:20260424T235343Z
UID:26e0ac0b266c4fc689fd990623b464bd@eetac.upc.edu
CREATED:20160919T062544Z
LAST-MODIFIED:20160919T062550Z
URL:https://eetac.upc.edu/ca/esdeveniments/dia-festiu-1
END:VEVENT
END:VCALENDAR
