BEGIN:VCALENDAR
VERSION:2.0
PRODID:-//Plone.org//NONSGML plone.app.event//EN
X-WR-TIMEZONE:Europe/Madrid
BEGIN:VEVENT
SUMMARY:Dia festiu / Día festivo / Holiday
DTSTART;VALUE=DATE:20191101
DTEND;VALUE=DATE:20191102
DTSTAMP:20260424T191023Z
UID:d1bdca9b6bf84bad8f9ec51c06431e8f@eetac.upc.edu
CREATED:20190925T155852Z
DESCRIPTION:Tots Sants
LAST-MODIFIED:20190925T160552Z
URL:https://eetac.upc.edu/ca/esdeveniments/dia-festiu-4
END:VEVENT
END:VCALENDAR
