BEGIN:VCALENDAR
VERSION:2.0
PRODID:-//Plone.org//NONSGML plone.app.event//EN
X-WR-TIMEZONE:Europe/Madrid
BEGIN:VEVENT
SUMMARY:Dia festiu / Día festivo / Holiday
DTSTART;VALUE=DATE:20191205
DTEND;VALUE=DATE:20191206
DTSTAMP:20260424T191003Z
UID:9f058c22bb88456d989664dff884f379@eetac.upc.edu
CREATED:20190925T160124Z
DESCRIPTION:Festa local de Castelldefels
LAST-MODIFIED:20190925T160614Z
URL:https://eetac.upc.edu/ca/esdeveniments/dia-festiu-5
END:VEVENT
END:VCALENDAR
