BEGIN:VCALENDAR
VERSION:2.0
PRODID:-//Plone.org//NONSGML plone.app.event//EN
X-WR-TIMEZONE:Europe/Madrid
BEGIN:VEVENT
SUMMARY:Dia festiu / Día festivo / Holiday
DTSTART;VALUE=DATE:20191206
DTEND;VALUE=DATE:20191207
DTSTAMP:20260424T235342Z
UID:6e6f677925ff4168a2eb145764aca4b8@eetac.upc.edu
CREATED:20190925T160400Z
DESCRIPTION:La Constitució
LAST-MODIFIED:20190925T160637Z
URL:https://eetac.upc.edu/ca/esdeveniments/dia-festiu-6
END:VEVENT
END:VCALENDAR
