BEGIN:VCALENDAR
VERSION:2.0
PRODID:-//Plone.org//NONSGML plone.app.event//EN
X-WR-TIMEZONE:Europe/Madrid
BEGIN:VEVENT
SUMMARY:Dia festiu
DTSTART;VALUE=DATE:20231101
DTEND;VALUE=DATE:20231102
DTSTAMP:20260424T191003Z
UID:6cfa97df73f84d6f921b25376f95402e@eetac.upc.edu
CREATED:20230913T082627Z
LAST-MODIFIED:20230913T082630Z
URL:https://eetac.upc.edu/ca/esdeveniments/dia-festiu-8
END:VEVENT
END:VCALENDAR
