BEGIN:VCALENDAR
VERSION:2.0
PRODID:-//Plone.org//NONSGML plone.app.event//EN
X-WR-TIMEZONE:Europe/Madrid
BEGIN:VEVENT
SUMMARY:EETAC Diàlegs Aeronàutics: Vol conèixer les activitats d'una em
 presa referent del sector aeroespacial?
DTSTART;TZID=Europe/Madrid:20240508T110000
DTEND;TZID=Europe/Madrid:20240508T120000
DTSTAMP:20260419T185542Z
UID:1ed6373df8b2489d8627d1b4366d874c@eetac.upc.edu
CREATED:20240502T081308Z
LAST-MODIFIED:20240502T081341Z
LOCATION:Sala d'actes EETAC
URL:https://eetac.upc.edu/ca/esdeveniments/eetac-dialegs-aeronautics
END:VEVENT
BEGIN:VTIMEZONE
TZID:Europe/Madrid
X-LIC-LOCATION:Europe/Madrid
BEGIN:DAYLIGHT
DTSTART:20240331T030000
TZNAME:CEST
TZOFFSETFROM:+0100
TZOFFSETTO:+0200
END:DAYLIGHT
END:VTIMEZONE
END:VCALENDAR
