BEGIN:VCALENDAR
VERSION:2.0
PRODID:-//Plone.org//NONSGML plone.app.event//EN
X-WR-TIMEZONE:Europe/Madrid
BEGIN:VEVENT
SUMMARY:Eines per innovar
DTSTART;VALUE=DATE:20170505
DTEND;VALUE=DATE:20170506
DTSTAMP:20260424T191003Z
UID:4b9e1464d80f4381b0daf7904a35868b@eetac.upc.edu
CONTACT:https://eetac.upc.edu/ca/noticies/jornades-dinnovacio-al-campus-de
 l-baix-llobregat
CREATED:20170426T081558Z
LAST-MODIFIED:20170428T073333Z
URL:https://eetac.upc.edu/ca/esdeveniments/eines-per-innovar
END:VEVENT
END:VCALENDAR
