BEGIN:VCALENDAR
VERSION:2.0
PRODID:-//Plone.org//NONSGML plone.app.event//EN
X-WR-TIMEZONE:Europe/Madrid
BEGIN:VEVENT
SUMMARY:Fòrum AeroTelecom 2024
DTSTART;VALUE=DATE:20240515
DTEND;VALUE=DATE:20240516
DTSTAMP:20260420T023756Z
UID:623b1aaaf1b145fab32b8af4d722260d@eetac.upc.edu
CONTACT:https://aerotelecom.es/es/
CREATED:20240502T081008Z
LAST-MODIFIED:20240502T111445Z
LOCATION:https://aerotelecom.es/es/
URL:https://eetac.upc.edu/ca/esdeveniments/forum-aerotelecom-2024-1
END:VEVENT
END:VCALENDAR
