BEGIN:VCALENDAR
VERSION:2.0
PRODID:-//Plone.org//NONSGML plone.app.event//EN
X-WR-TIMEZONE:Europe/Madrid
BEGIN:VEVENT
SUMMARY:Fòrum d'empreses AeroTelecom
DTSTART;TZID=Europe/Madrid:20260513T090000
DTEND;TZID=Europe/Madrid:20260513T180000
DTSTAMP:20260424T152848Z
UID:498c02dd360e4cd7a84402f2482edd31@eetac.upc.edu
CONTACT:https://aerotelecom.es/ca/
CREATED:20260423T082619Z
LAST-MODIFIED:20260423T082630Z
LOCATION:EETAC
URL:https://eetac.upc.edu/ca/esdeveniments/forum-dempreses-aerotelecom
END:VEVENT
BEGIN:VTIMEZONE
TZID:Europe/Madrid
X-LIC-LOCATION:Europe/Madrid
BEGIN:DAYLIGHT
DTSTART:20260329T030000
TZNAME:CEST
TZOFFSETFROM:+0100
TZOFFSETTO:+0200
END:DAYLIGHT
END:VTIMEZONE
END:VCALENDAR
