BEGIN:VCALENDAR
VERSION:2.0
PRODID:-//Plone.org//NONSGML plone.app.event//EN
X-WR-TIMEZONE:Europe/Madrid
BEGIN:VEVENT
SUMMARY:Horari de dilluns
DTSTART;VALUE=DATE:20230915
DTEND;VALUE=DATE:20230916
DTSTAMP:20260425T012037Z
UID:9ecdb1d97eae4977b37580d12995beb0@eetac.upc.edu
CREATED:20230913T081632Z
LAST-MODIFIED:20230913T081721Z
URL:https://eetac.upc.edu/ca/esdeveniments/horari-de-dilluns
END:VEVENT
END:VCALENDAR
