BEGIN:VCALENDAR
VERSION:2.0
PRODID:-//Plone.org//NONSGML plone.app.event//EN
X-WR-TIMEZONE:Europe/Madrid
BEGIN:VEVENT
SUMMARY:Horari de dimarts
DTSTART;VALUE=DATE:20190926
DTEND;VALUE=DATE:20190927
DTSTAMP:20260424T221755Z
UID:bdff3b1bfffd4901a16e16d8d4a0fece@eetac.upc.edu
CREATED:20190710T082656Z
LAST-MODIFIED:20190710T084256Z
URL:https://eetac.upc.edu/ca/esdeveniments/horari-de-dimarts
END:VEVENT
END:VCALENDAR
