BEGIN:VCALENDAR
VERSION:2.0
PRODID:-//Plone.org//NONSGML plone.app.event//EN
X-WR-TIMEZONE:Europe/Madrid
BEGIN:VEVENT
SUMMARY:Inauguració infraestructura 6G LabNet UPC
DTSTART;TZID=Europe/Madrid:20260408T103000
DTEND;TZID=Europe/Madrid:20260408T113000
DTSTAMP:20260424T181005Z
UID:aafac270c7d949aeaed8ec9daf69db50@eetac.upc.edu
CONTACT:Cristina Cervelló
CREATED:20260327T115420Z
LAST-MODIFIED:20260327T115445Z
LOCATION:Sala d'actes EETAC
URL:https://eetac.upc.edu/ca/esdeveniments/inauguracio-infraestructura-6g-
 labnet-upc
END:VEVENT
BEGIN:VTIMEZONE
TZID:Europe/Madrid
X-LIC-LOCATION:Europe/Madrid
BEGIN:DAYLIGHT
DTSTART:20260329T030000
TZNAME:CEST
TZOFFSETFROM:+0100
TZOFFSETTO:+0200
END:DAYLIGHT
END:VTIMEZONE
END:VCALENDAR
