BEGIN:VCALENDAR
VERSION:2.0
PRODID:-//Plone.org//NONSGML plone.app.event//EN
X-WR-TIMEZONE:Europe/Madrid
BEGIN:VEVENT
SUMMARY:Lliurament de notes / Entregada de notas / Post marks [NetArea]
DTSTART;VALUE=DATE:20190625
DTEND;VALUE=DATE:20190626
DTSTAMP:20260420T102723Z
UID:1b9a0beca43444aeb9ed7b9f3f7e2251@eetac.upc.edu
CREATED:20180724T092756Z
LAST-MODIFIED:20180725T082112Z
URL:https://eetac.upc.edu/ca/esdeveniments/lliurament-de-notes-entregada-d
 e-notas-post-marks-netarea-1
END:VEVENT
END:VCALENDAR
