BEGIN:VCALENDAR
VERSION:2.0
PRODID:-//Plone.org//NONSGML plone.app.event//EN
X-WR-TIMEZONE:Europe/Madrid
BEGIN:VEVENT
SUMMARY:MASTEAM-MATT talk - Seyed Mahdi Darroudi (Neutroon)  - Cellular ne
 twork maturities: how to complete the service cycle by edge processing.
DTSTART;TZID=Europe/Madrid:20240221T180000
DTEND;TZID=Europe/Madrid:20240221T190000
DTSTAMP:20260420T030737Z
UID:c24a362307f648bb841139f7b771cd50@eetac.upc.edu
CATEGORIES:#conferències
CREATED:20240214T075551Z
DESCRIPTION:This week's activity will be a talk session from Dr Seyed Mahd
 i Darroudi (Neutroon)\, Wednesday 21st February 2024\, 18:00h Classroom C4
 -021B.
LAST-MODIFIED:20240215T091244Z
LOCATION:C4-021B
URL:https://eetac.upc.edu/ca/esdeveniments/mateam-matt-talk
END:VEVENT
BEGIN:VTIMEZONE
TZID:Europe/Madrid
X-LIC-LOCATION:Europe/Madrid
BEGIN:STANDARD
DTSTART:20231029T020000
TZNAME:CET
TZOFFSETFROM:+0200
TZOFFSETTO:+0100
END:STANDARD
END:VTIMEZONE
END:VCALENDAR
