BEGIN:VCALENDAR
VERSION:2.0
PRODID:-//Plone.org//NONSGML plone.app.event//EN
X-WR-TIMEZONE:Europe/Madrid
BEGIN:VEVENT
SUMMARY:Sessió informativa sobre programes de mobilitat
DTSTART;TZID=Europe/Madrid:20221109T110000
DTEND;TZID=Europe/Madrid:20221109T120000
DTSTAMP:20260419T222748Z
UID:746714c78a1a42508e71711b48bbb4d9@eetac.upc.edu
CREATED:20221107T085450Z
LAST-MODIFIED:20221107T085519Z
LOCATION:Sala d'Actes de l'EETAC
URL:https://eetac.upc.edu/ca/esdeveniments/sessio-informativa-sobre-progra
 mes-de-mobilitat-1
END:VEVENT
BEGIN:VTIMEZONE
TZID:Europe/Madrid
X-LIC-LOCATION:Europe/Madrid
BEGIN:STANDARD
DTSTART:20221030T020000
TZNAME:CET
TZOFFSETFROM:+0200
TZOFFSETTO:+0100
END:STANDARD
END:VTIMEZONE
END:VCALENDAR
