BEGIN:VCALENDAR
VERSION:2.0
PRODID:-//Plone.org//NONSGML plone.app.event//EN
X-WR-TIMEZONE:Europe/Madrid
BEGIN:VEVENT
SUMMARY:Trobada virtual de consultes sobre programes de mobilitat a l'EETA
 C
DTSTART;TZID=Europe/Madrid:20201118T110500
DTEND;TZID=Europe/Madrid:20201118T115000
DTSTAMP:20260424T150152Z
UID:5959f1c476f0428eaaabb2d66a37a6f9@eetac.upc.edu
CONTACT:https://meet.google.com/nad-xazi-hnr
CREATED:20201113T134815Z
LAST-MODIFIED:20201113T135008Z
URL:https://eetac.upc.edu/ca/esdeveniments/trobada-virtual-de-consultes-so
 bre-programes-de-mobilitat-a-leetac
END:VEVENT
BEGIN:VTIMEZONE
TZID:Europe/Madrid
X-LIC-LOCATION:Europe/Madrid
BEGIN:STANDARD
DTSTART:20201025T020000
TZNAME:CET
TZOFFSETFROM:+0200
TZOFFSETTO:+0100
END:STANDARD
END:VTIMEZONE
END:VCALENDAR
