BEGIN:VCALENDAR
VERSION:2.0
PRODID:-//Plone.org//NONSGML plone.app.event//EN
X-WR-TIMEZONE:Europe/Madrid
BEGIN:VEVENT
SUMMARY:Xerrada informativa de Fòrmula Student
DTSTART;TZID=Europe/Madrid:20230913T110000
DTEND;TZID=Europe/Madrid:20230913T120000
DTSTAMP:20260424T235344Z
UID:4c61ace755f74921ad18f63290d5aba9@eetac.upc.edu
CREATED:20230912T152039Z
LAST-MODIFIED:20230912T152351Z
LOCATION:Sala d'actes de l'EETAC
URL:https://eetac.upc.edu/ca/esdeveniments/xerrada-informativa-de-formula-
 student
END:VEVENT
BEGIN:VTIMEZONE
TZID:Europe/Madrid
X-LIC-LOCATION:Europe/Madrid
BEGIN:DAYLIGHT
DTSTART:20230326T030000
TZNAME:CEST
TZOFFSETFROM:+0100
TZOFFSETTO:+0200
END:DAYLIGHT
END:VTIMEZONE
END:VCALENDAR
