BEGIN:VCALENDAR
VERSION:2.0
PRODID:-//Plone.org//NONSGML plone.app.event//EN
X-WR-TIMEZONE:Europe/Madrid
BEGIN:VEVENT
SUMMARY:Friday schedule
DTSTART;VALUE=DATE:20260428
DTEND;VALUE=DATE:20260429
DTSTAMP:20260425T035133Z
UID:542631ed68ec4be69b9eb33112f5c320@eetac.upc.edu
CREATED:20250922T121803Z
LAST-MODIFIED:20260424T071231Z
URL:https://eetac.upc.edu/en/events/copy_of_thursday-schedule
END:VEVENT
END:VCALENDAR
