BEGIN:VCALENDAR
VERSION:2.0
PRODID:-//Plone.org//NONSGML plone.app.event//EN
X-WR-TIMEZONE:Europe/Madrid
BEGIN:VEVENT
SUMMARY:Castelldefesta
DTSTART;VALUE=DATE:20260507
DTEND;VALUE=DATE:20260508
DTSTAMP:20260424T142657Z
UID:0c7c25da368540e7bd4ec400c2e8eae6@eetac.upc.edu
CONTACT:https://castelldefesta.org/
CREATED:20260422T072507Z
LAST-MODIFIED:20260422T072514Z
LOCATION:Campus Baix Llobregat
URL:https://eetac.upc.edu/es/eventos/castelldefesta-1
END:VEVENT
END:VCALENDAR
