BEGIN:VCALENDAR
VERSION:2.0
PRODID:-//Plone.org//NONSGML plone.app.event//EN
X-WR-TIMEZONE:Europe/Madrid
BEGIN:VEVENT
SUMMARY:Horario de viernes
DTSTART;VALUE=DATE:20260428
DTEND;VALUE=DATE:20260429
DTSTAMP:20260425T020308Z
UID:7152ba70114841489bd6b3bd811d3801@eetac.upc.edu
CREATED:20250905T110328Z
LAST-MODIFIED:20260424T071000Z
URL:https://eetac.upc.edu/es/eventos/copy_of_horario-de-jueves
END:VEVENT
END:VCALENDAR
